BEGIN:VCALENDAR
VERSION:2.0
PRODID:-//Rheos//Weekly Live Demo//EN
CALSCALE:GREGORIAN
METHOD:PUBLISH
BEGIN:VEVENT
UID:rheos-weekly-live-demo@rheos.app
DTSTAMP:20260415T000000Z
DTSTART:20260421T130000Z
DTEND:20260421T133000Z
SUMMARY:Rheos Live Demo
DESCRIPTION:Watch Archie build a full week of on-brand social content live — posts\, images\, video — then bring your questions.\n\nJoin: https://meet.google.com/bgg-esbj-kag\nMore details: https://rheos.app/demo
LOCATION:https://meet.google.com/bgg-esbj-kag
URL:https://rheos.app/demo
STATUS:CONFIRMED
TRANSP:OPAQUE
BEGIN:VALARM
TRIGGER:-PT15M
ACTION:DISPLAY
DESCRIPTION:Rheos Weekly Live Demo starts in 15 minutes
END:VALARM
END:VEVENT
END:VCALENDAR
